Workbook
Name スライサー_団体: #N/A
Name スライサー_団体1: #N/A

Sheet 記入上の注意（お願い）

Sheet 申込(見本)
A1: 第７６回 高体連函館支部バドミントン選手権大会
A3: 男 子 | B3: 参 加 申 込 書
A6: 学校名（表示名） | B6: 学校名（正式名称） | D6: 学校所在地・電話番号
A7: 函館北 | B7: 北海道函館北高等学校 | C7: 全日制 | D7: 函館市日吉町４丁目１－１ | F7: TEL | G7: ０１３８－５６－１１１１
A8: 監督名 | D8: コーチ名 | F8: マネージャー名（教職員の場合）
A9: 箱館 太郎 | D9: 函工 次郎 | F9: 柏ヶ丘 陸
A10: 登録番号 | D10: 登録番号 | F10: 登録番号
A11: １２３４５６７８９０ | D11: ２３４５６７８９１２ | F11: ８７９６５４３５１２
A12: 公認審判員資格の資格 | C12: 有 | D12: 公認審判員資格の資格 | E12: 無 | F12: 公認審判員資格の資格 | H12: 無
A13: 審判の可否 | C13: 可 | D13: 審判の可否 | E13: 否 | F13: 審判の可否 | H13: 否
A15: ※１ 男子は黒、女子は赤で記入して下さい。
A16: ※２ 団体戦出場者には○を、主将には◎、マネージャー（生徒）にはＭをつけて下さい。
A17: ※３ 個人戦出場者には、Ｄ・Ｓ欄にＤ１、Ｓ２等の校内順位を記入して下さい。
A18: ※４ 申込書は男女別の用紙に記入して下さい。
A19: ※５ 協会登録番号を忘れずに記入して下さい。（監督、コーチ含む）
A20: 【 男子 】
A21: 氏 名 | B21: ふりがな | C21: 学 年 | D21: 生 年 月 日 | E21: 団 体 | F21: 個人Ｄ | G21: 個人Ｓ | H21: 登 録 番 号
D22: (入力例 2003/4/2)
A23: 山之手 健太 | B23: やまのて けんた | C23: ３年 | D23: 39204 | E23: ◎ | F23: D1-1 | G23: S1 | H23: 1111111111 | J23: =IF(AND(E23="M", F23="", G23=""), 0, IF(OR(E23="○", E23="◎", F23<>"", G23<>""), 1, "")) -> 1
A25: 本通 伊右衛門 | B25: ほんどおり いえもん | C25: ３年 | D25: 39428 | E25: ○ | F25: D1-2 | G25: S2 | H25: 1111111112 | J25: =IF(AND(E25="M", F25="", G25=""), 0, IF(OR(E25="○", E25="◎", F25<>"", G25<>""), 1, "")) -> 1
A27: 中道 太郎 | B27: なかみち たろう | C27: ２年 | D27: 39675 | E27: ○ | F27: D2-1 | H27: 1111111113 | J27: =IF(AND(E27="M", F27="", G27=""), 0, IF(OR(E27="○", E27="◎", F27<>"", G27<>""), 1, "")) -> 1
A29: 赤川 三郎 | B29: あかがわ さぶろう | C29: ２年 | D29: 39858 | E29: M | H29: 1111111114 | J29: =IF(AND(E29="M", F29="", G29=""), 0, IF(OR(E29="○", E29="◎", F29<>"", G29<>""), 1, "")) -> 0
A31: 日出 翔太郎 | B31: ひので しょうたろう | C31: ３年 | D31: 39531 | E31: ○ | H31: 1111111115 | J31: =IF(AND(E31="M", F31="", G31=""), 0, IF(OR(E31="○", E31="◎", F31<>"", G31<>""), 1, "")) -> 1
A33: 住吉 小次郎 | B33: すみよし こじろう | C33: ３年 | D33: 39416 | E33: ○ | H33: 1212121212 | J33: =IF(AND(E33="M", F33="", G33=""), 0, IF(OR(E33="○", E33="◎", F33<>"", G33<>""), 1, "")) -> 1
A35: 青柳 小五郎 | B35: あおやぎ こごろう | C35: ３年 | D35: 39188 | E35: ○ | H35: 1313131313 | J35: =IF(AND(E35="M", F35="", G35=""), 0, IF(OR(E35="○", E35="◎", F35<>"", G35<>""), 1, "")) -> 1
A37: 亀田 太一 | B37: かめだ たいち | C37: １年 | D37: 40083 | E37: ○ | F37: D2-2 | G37: S3 | H37: 1616161616 | J37: =IF(AND(E37="M", F37="", G37=""), 0, IF(OR(E37="○", E37="◎", F37<>"", G37<>""), 1, "")) -> 1
L38: 参加人数 | M38: =J47 -> 9
A39: 美原 昇太 | B39: みはら しょうた | C39: ３年 | D39: 39247 | F39: D3-1 | H39: 1122334455 | J39: =IF(AND(E39="M", F39="", G39=""), 0, IF(OR(E39="○", E39="◎", F39<>"", G39<>""), 1, "")) -> 1 | L39: 団体参加可否 | M39: =COUNTIF(E23:E46,"◎") -> 1
L40: ダブルス参加数 | M40: =COUNTA(F23:F46)/2 -> 3
A41: 石川 希京 | B41: いしかわ ききょう | C41: ２年 | D41: 39540 | F41: D3-2 | H41: 1112225557 | J41: =IF(AND(E41="M", F41="", G41=""), 0, IF(OR(E41="○", E41="◎", F41<>"", G41<>""), 1, "")) -> 1 | L41: シングルス参加数 | M41: =COUNTA(G23:G46) -> 3
J43: =IF(AND(E43="M", F43="", G43=""), 0, IF(OR(E43="○", E43="◎", F43<>"", G43<>""), 1, ""))
J45: =IF(AND(E45="M", F45="", G45=""), 0, IF(OR(E45="○", E45="◎", F45<>"", G45<>""), 1, ""))
J47: =SUM(J23:J46) -> 9
A48: 男子団体戦参加料 | D48: 男子個人参加料（1人６００円） | F48: 男子参加料合計金額
A49: =2000*M39 -> 2000 | C49: 円 | D49: =600*J47 -> 5400 | E49: 円 | F49: =SUM(A49,D49) -> 7400
A50: シャトルコック代金計算 | C50: 団体 | D50: =M39*5880 -> 5880 | E50: ダブルス | F50: =M40*1470 -> 4410 | G50: シングルス | H50: =M41*980 -> 2940
G51: 合計 | H51: =D50+F50+H50 -> 13230
A53: 参 加 承 諾 書
A54: 上記の生徒の参加を認める
D55: 学校名 | E55: =B7 -> 北海道函館北高等学校
...

Sheet 男子申込(印刷)
A1: 令和８年度 第78回高体連函館支部春季バドミントン大会参加申込書
A3: 男 子 | B3: 参 加 申 込 書
A6: 学校名（表示名） | B6: 学校名（正式名称） | D6: 学校所在地・電話番号
F7: TEL
A8: 監督名 | D8: コーチ名 | F8: マネージャー名（教職員の場合）
A10: 登録番号 | D10: 登録番号 | F10: 登録番号
A12: 公認審判員資格の資格 | D12: 公認審判員資格の資格 | F12: 公認審判員資格の資格
A13: 審判の可否 | D13: 審判の可否 | F13: 審判の可否
A15: ※１ 男子は黒、女子は赤で記入して下さい。
A16: ※２ 団体戦出場者には○を、主将には◎、マネージャーにはＭをつけて下さい。
A17: ※３ 個人戦出場者には、Ｄ・Ｓ欄にＤ１、Ｓ２等の校内順位を記入して下さい。
A18: ※４ 申込書は男女別の用紙に記入して下さい。
A19: ※５ 協会登録番号を忘れずに記入して下さい。（監督、コーチ含む）
A20: 【 男子 】
A21: 氏 名 | B21: ふりがな | C21: 学 年 | D21: 生 年 月 日 | E21: 団 体 | F21: 個人Ｄ | G21: 個人Ｓ | H21: 登 録 番 号
D22: (入力例 2003/4/2)
I23: =IF(AND(E23="M", F23="", G23=""), 0, IF(OR(E23="○", E23="◎", F23<>"", G23<>""), 1, ""))
I25: =IF(AND(E25="M", F25="", G25=""), 0, IF(OR(E25="○", E25="◎", F25<>"", G25<>""), 1, ""))
I27: =IF(AND(E27="M", F27="", G27=""), 0, IF(OR(E27="○", E27="◎", F27<>"", G27<>""), 1, ""))
I29: =IF(AND(E29="M", F29="", G29=""), 0, IF(OR(E29="○", E29="◎", F29<>"", G29<>""), 1, ""))
I31: =IF(AND(E31="M", F31="", G31=""), 0, IF(OR(E31="○", E31="◎", F31<>"", G31<>""), 1, ""))
I33: =IF(AND(E33="M", F33="", G33=""), 0, IF(OR(E33="○", E33="◎", F33<>"", G33<>""), 1, ""))
I35: =IF(AND(E35="M", F35="", G35=""), 0, IF(OR(E35="○", E35="◎", F35<>"", G35<>""), 1, ""))
I37: =IF(AND(E37="M", F37="", G37=""), 0, IF(OR(E37="○", E37="◎", F37<>"", G37<>""), 1, ""))
K38: 参加人数 | L38: =I47 -> 0
I39: =IF(AND(E39="M", F39="", G39=""), 0, IF(OR(E39="○", E39="◎", F39<>"", G39<>""), 1, "")) | K39: 団体参加可否 | L39: =COUNTIF(E23:E46,"◎") -> 0
K40: ダブルス参加数 | L40: =COUNTA(F23:F46)/2 -> 0
I41: =IF(AND(E41="M", F41="", G41=""), 0, IF(OR(E41="○", E41="◎", F41<>"", G41<>""), 1, "")) | K41: シングルス参加数 | L41: =COUNTA(G23:G46) -> 0
I43: =IF(AND(E43="M", F43="", G43=""), 0, IF(OR(E43="○", E43="◎", F43<>"", G43<>""), 1, ""))
I45: =IF(AND(E45="M", F45="", G45=""), 0, IF(OR(E45="○", E45="◎", F45<>"", G45<>""), 1, ""))
I47: =SUM(I23:I46) -> 0
B48: 男子団体戦参加料 ※自動計算 | D48: 男子個人参加料（1人1種目1,500円）※自動計算
B49: =12000*L39 -> 0 | C49: 円 | D49: Aグループ ダブルス | E49: =L40 -> 0 | F49: Ａグループダブルス | H49: =1500*L40 -> 0
D50: Aグループ シングルス | E50: =L41 -> 0 | F50: Ａグループシングルス | H50: =1500*L41 -> 0
D51: Ｂグループ ダブルス | E51: =男子個人Ｂ!L12/2 -> 0 | F51: Ｂグループダブルス | H51: =E51*2*1500 -> 0
D52: Ｂグループ シングルス | E52: =男子個人Ｂ!L14 -> 0 | F52: Ｂグループシングルス | H52: =1500*E52 -> 0
D53: 合計 | F53: =SUM(B49,H49:H52) -> 0
A55: 参 加 承 諾 書
A56: 上記の生徒の参加を認める
D57: 学校名 | E57: =B7 -> 0
...

Sheet 女子申込(印刷) 
A1: ='男子申込(印刷)'!A1 -> 令和８年度 第78回高体連函館支部春季バドミントン大会参加申込書
A3: 女 子 | B3: 参 加 申 込 書
A6: 学校名（表示名） | B6: 学校名（正式名称） | D6: 学校所在地・電話番号
F7: TEL
A8: 監督名 | D8: コーチ名 | F8: マネージャー名（教職員の場合）
A10: 登録番号 | D10: 登録番号 | F10: 登録番号
A12: 公認審判員資格の資格 | D12: 公認審判員資格の資格 | F12: 公認審判員資格の資格
A13: 審判の可否 | D13: 審判の可否 | F13: 審判の可否
A15: ※１ 男子は黒、女子は赤で記入して下さい。
A16: ※２ 団体戦出場者には○を、主将には◎、マネージャーにはＭをつけて下さい。
A17: ※３ 個人戦出場者には、Ｄ・Ｓ欄にＤ１、Ｓ２等の校内順位を記入して下さい。
A18: ※４ 申込書は男女別の用紙に記入して下さい。
A19: ※５ 協会登録番号を忘れずに記入して下さい。（監督、コーチ含む）
A20: 【 女子 】
A21: 氏 名 | B21: ふりがな | C21: 学 年 | D21: 生 年 月 日 | E21: 団 体 | F21: 個人Ｄ | G21: 個人Ｓ | H21: 登 録 番 号
D22: (入力例 2003/4/2)
J23: =IF(AND(E23="M", F23="", G23=""), 0, IF(OR(E23="○", E23="◎", F23<>"", G23<>""), 1, ""))
J25: =IF(AND(E25="M", F25="", G25=""), 0, IF(OR(E25="○", E25="◎", F25<>"", G25<>""), 1, ""))
J27: =IF(AND(E27="M", F27="", G27=""), 0, IF(OR(E27="○", E27="◎", F27<>"", G27<>""), 1, ""))
J29: =IF(AND(E29="M", F29="", G29=""), 0, IF(OR(E29="○", E29="◎", F29<>"", G29<>""), 1, ""))
J31: =IF(AND(E31="M", F31="", G31=""), 0, IF(OR(E31="○", E31="◎", F31<>"", G31<>""), 1, ""))
J33: =IF(AND(E33="M", F33="", G33=""), 0, IF(OR(E33="○", E33="◎", F33<>"", G33<>""), 1, ""))
J35: =IF(AND(E35="M", F35="", G35=""), 0, IF(OR(E35="○", E35="◎", F35<>"", G35<>""), 1, ""))
J37: =IF(AND(E37="M", F37="", G37=""), 0, IF(OR(E37="○", E37="◎", F37<>"", G37<>""), 1, ""))
L38: 参加人数 | M38: =J47 -> 0
J39: =IF(AND(E39="M", F39="", G39=""), 0, IF(OR(E39="○", E39="◎", F39<>"", G39<>""), 1, "")) | L39: 団体参加可否 | M39: =COUNTIF(E23:E46,"◎") -> 0
L40: ダブルス参加数 | M40: =COUNTA(F23:F46)/2 -> 0
J41: =IF(AND(E41="M", F41="", G41=""), 0, IF(OR(E41="○", E41="◎", F41<>"", G41<>""), 1, "")) | L41: シングルス参加数 | M41: =COUNTA(G23:G46) -> 0
J43: =IF(AND(E43="M", F43="", G43=""), 0, IF(OR(E43="○", E43="◎", F43<>"", G43<>""), 1, ""))
J45: =IF(AND(E45="M", F45="", G45=""), 0, IF(OR(E45="○", E45="◎", F45<>"", G45<>""), 1, ""))
J47: =SUM(J23:J46) -> 0
B48: 女子団体戦参加料 ※自動計算 | D48: 女子個人参加料（1人1種目1,500円）※自動計算
B49: =12000*M39 -> 0 | C49: 円 | D49: Aグループ ダブルス | E49: =M40 -> 0 | F49: Ａグループダブルス | H49: =1500*M40 -> 0
D50: Aグループ シングルス | E50: =M41 -> 0 | F50: Ａグループシングルス | H50: =1500*M41 -> 0
D51: Ｂグループ ダブルス | E51: =女子個人Ｂ!M11/2 -> 0 | F51: Ｂグループダブルス | H51: =E51*2*1500 -> 0
D52: Ｂグループ シングルス | E52: =女子個人Ｂ!M13 -> 0 | F52: Ｂグループシングルス | H52: =1500*E52 -> 0
D53: 合計 | F53: =SUM(B49,H49:H52) -> 0
A55: 参 加 承 諾 書
A56: 上記の生徒の参加を認める
D57: 学校名 | E57: =B7 -> 0
...

Sheet 男子個人Ｂ
A1: 個人対抗Ｂ申込
A2: 大会名 | C2: ='男子申込(印刷)'!A1 -> 令和８年度 第78回高体連函館支部春季バドミントン大会参加申込書
A3: 学校名 | C3: ='男子申込(印刷)'!B7 -> 0
A4: ◆男子ダブルス B エントリー◆
A5: ①名前及びふりがなは「姓」と「名」の間のみを全角1マス空けてください
A6: ②学校名は函館市内の場合、「函館○○」としてください。高等学校は入れないでください。
A7: ③ペアは種目ごとに校内順位の順に並べてください。その際に、順位を示すような数字の記入は不要です。
A8: ④各欄には「〃」の使用はしないでください。
A9: ⑤欄が足りない場合は、増やして作成してください。
A10: ランク | B10: 種目 | C10: 名前 | D10: ふりがな | E10: 学校名 | F10: 学年 | G10: 生年月日 | H10: 登録番号
A11: 1 | B11: BDB | E11: ='男子申込(印刷)'!$A$7 -> 0 | L11: Ｂダブルス参加人数
B12: BDB | E12: ='男子申込(印刷)'!$A$7 -> 0 | L12: =COUNTA(C11:C30) -> 0
A13: 2 | B13: BDB | E13: ='男子申込(印刷)'!$A$7 -> 0 | L13: Ｂシングルス参加人数
B14: BDB | E14: ='男子申込(印刷)'!$A$7 -> 0 | L14: =COUNTA(C38:C57) -> 0
A15: 3 | B15: BDB | E15: ='男子申込(印刷)'!$A$7 -> 0
B16: BDB | E16: ='男子申込(印刷)'!$A$7 -> 0
A17: 4 | B17: BDB | E17: ='男子申込(印刷)'!$A$7 -> 0
B18: BDB | E18: ='男子申込(印刷)'!$A$7 -> 0
A19: 5 | B19: BDB | E19: ='男子申込(印刷)'!$A$7 -> 0
B20: BDB | E20: ='男子申込(印刷)'!$A$7 -> 0
A21: 6 | B21: BDB | E21: ='男子申込(印刷)'!$A$7 -> 0
B22: BDB | E22: ='男子申込(印刷)'!$A$7 -> 0
A23: 7 | B23: BDB | E23: ='男子申込(印刷)'!$A$7 -> 0
B24: BDB | E24: ='男子申込(印刷)'!$A$7 -> 0
A25: 8 | B25: BDB | E25: ='男子申込(印刷)'!$A$7 -> 0
B26: BDB | E26: ='男子申込(印刷)'!$A$7 -> 0
A27: 9 | B27: BDB | E27: ='男子申込(印刷)'!$A$7 -> 0
B28: BDB | E28: ='男子申込(印刷)'!$A$7 -> 0
A29: 10 | B29: BDB | E29: ='男子申込(印刷)'!$A$7 -> 0
B30: BDB | E30: ='男子申込(印刷)'!$A$7 -> 0
A31: ◆男子シングルス B エントリー◆
A32: ①名前及びふりがなは「姓」と「名」の間のみを全角1マス空けてください
A33: ②学校名は函館市内の場合、「函館○○」としてください。高等学校は入れないでください。
A34: ③ペアは種目ごとに校内順位の順に並べてください。その際に、順位を示すような数字の記入は不要です。
A35: ④各欄には「〃」の使用はしないでください。
A36: ⑤欄が足りない場合は、シートを増やして作成してください。
A37: ランク | B37: 種目 | C37: 名前 | D37: ふりがな | E37: 学校名 | F37: 学年 | G37: 生年月日 | H37: 登録番号
A38: 1 | B38: BSB | E38: ='男子申込(印刷)'!$A$7 -> 0
A39: 2 | B39: BSB | E39: ='男子申込(印刷)'!$A$7 -> 0
A40: 3 | B40: BSB | E40: ='男子申込(印刷)'!$A$7 -> 0
...

Sheet 女子個人Ｂ
A1: 個人対抗Ｂ申込
A2: 大会名 | C2: ='男子申込(印刷)'!A1 -> 令和８年度 第78回高体連函館支部春季バドミントン大会参加申込書
A3: 学校名 | C3: ='女子申込(印刷) '!B7 -> 0
A4: ◆女子ダブルス B エントリー◆
A5: ①名前及びふりがなは「姓」と「名」の間のみを全角1マス空けてください
A6: ②学校名は函館市内の場合、「函館○○」としてください。高等学校は入れないでください。
A7: ③ペアは種目ごとに校内順位の順に並べてください。その際に、順位を示すような数字の記入は不要です。
A8: ④各欄には「〃」の使用はしないでください。
A9: ⑤欄が足りない場合は、増やして作成してください。
A10: ランク | B10: 種目 | C10: 名前 | D10: ふりがな | E10: 学校名 | F10: 学年 | G10: 生年月日 | H10: 登録番号 | M10: Ｂダブルス参加人数
A11: 1 | B11: GDB | E11: ='男子申込(印刷)'!$A$7 -> 0 | M11: =COUNTA(C11:C30) -> 0
B12: GDB | E12: ='男子申込(印刷)'!$A$7 -> 0 | M12: Ｂシングルス参加人数
A13: 2 | B13: GDB | E13: ='男子申込(印刷)'!$A$7 -> 0 | M13: =COUNTA(C38:C57) -> 0
B14: GDB | E14: ='男子申込(印刷)'!$A$7 -> 0
A15: 3 | B15: GDB | E15: ='男子申込(印刷)'!$A$7 -> 0
B16: GDB | E16: ='男子申込(印刷)'!$A$7 -> 0
A17: 4 | B17: GDB | E17: ='男子申込(印刷)'!$A$7 -> 0
B18: GDB | E18: ='男子申込(印刷)'!$A$7 -> 0
A19: 5 | B19: GDB | E19: ='男子申込(印刷)'!$A$7 -> 0
B20: GDB | E20: ='男子申込(印刷)'!$A$7 -> 0
A21: 6 | B21: GDB | E21: ='男子申込(印刷)'!$A$7 -> 0
B22: GDB | E22: ='男子申込(印刷)'!$A$7 -> 0
A23: 7 | B23: GDB | E23: ='男子申込(印刷)'!$A$7 -> 0
B24: GDB | E24: ='男子申込(印刷)'!$A$7 -> 0
A25: 8 | B25: GDB | E25: ='男子申込(印刷)'!$A$7 -> 0
B26: GDB | E26: ='男子申込(印刷)'!$A$7 -> 0
A27: 9 | B27: GDB | E27: ='男子申込(印刷)'!$A$7 -> 0
B28: GDB | E28: ='男子申込(印刷)'!$A$7 -> 0
A29: 10 | B29: GDB | E29: ='男子申込(印刷)'!$A$7 -> 0
B30: GDB | E30: ='男子申込(印刷)'!$A$7 -> 0
A31: ◆女子シングルス B エントリー◆
A32: ①名前及びふりがなは「姓」と「名」の間のみを全角1マス空けてください
A33: ②学校名は函館市内の場合、「函館○○」としてください。高等学校は入れないでください。
A34: ③ペアは種目ごとに校内順位の順に並べてください。その際に、順位を示すような数字の記入は不要です。
A35: ④各欄には「〃」の使用はしないでください。
A36: ⑤欄が足りない場合は、シートを増やして作成してください。
A37: ランク | B37: 種目 | C37: 名前 | D37: ふりがな | E37: 学校名 | F37: 学年 | G37: 生年月日 | H37: 登録番号
A38: 1 | B38: GSB | E38: ='女子申込(印刷) '!$A$7 -> 0
A39: 2 | B39: GSB | E39: ='女子申込(印刷) '!$A$7 -> 0
A40: 3 | B40: GSB | E40: ='女子申込(印刷) '!$A$7 -> 0
...

Sheet 男女個票(印刷)
A1: ='男子申込(印刷)'!A1:H1 -> 令和８年度 第78回高体連函館支部春季バドミントン大会参加申込書
A3: ※ カラー印刷の上、送付ください。
A4: ※ セルのデータの編集はしないでください。
A5: ※ うまく表示が出ないときは、申込のシートを編集してください。
A7: 種 目 | B7: 氏 名 | C7: 学校名 | E7: 種 目 | F7: 氏 名 | G7: 学校名
A8: 男子 | B8: =INDEX('男子申込(印刷)'!A23:A46, MATCH("S1", '男子申込(印刷)'!G23:G46, 0)) -> #N/A | C8: ='男子申込(印刷)'!$A$7 -> 0 | E8: 男子 | F8: =INDEX('男子申込(印刷)'!A23:A46, MATCH("D1-1", '男子申込(印刷)'!F23:F46, 0)) -> #N/A | G8: ='男子申込(印刷)'!$A$7 -> 0
A9: Ｓ１ | E9: Ｄ１ | F9: =INDEX('男子申込(印刷)'!A23:A46, MATCH("D1-2", '男子申込(印刷)'!F23:F46, 0)) -> #N/A
A11: 種 目 | B11: 氏 名 | C11: 学校名 | E11: 種 目 | F11: 氏 名 | G11: 学校名
A12: 男子 | B12: =INDEX('男子申込(印刷)'!A23:A46, MATCH("S2", '男子申込(印刷)'!G23:G46, 0)) -> #N/A | C12: ='男子申込(印刷)'!$A$7 -> 0 | E12: 男子 | F12: =INDEX('男子申込(印刷)'!A23:A46, MATCH("D2-1", '男子申込(印刷)'!F23:F46, 0)) -> #N/A | G12: ='男子申込(印刷)'!$A$7 -> 0
A13: Ｓ２ | E13: Ｄ２ | F13: =INDEX('男子申込(印刷)'!A23:A46, MATCH("D2-2", '男子申込(印刷)'!F23:F46, 0)) -> #N/A
A15: 種 目 | B15: 氏 名 | C15: 学校名 | E15: 種 目 | F15: 氏 名 | G15: 学校名
A16: 男子 | B16: =INDEX('男子申込(印刷)'!A23:A46, MATCH("S3", '男子申込(印刷)'!G23:G46, 0)) -> #N/A | C16: ='男子申込(印刷)'!$A$7 -> 0 | E16: 男子 | F16: =INDEX('男子申込(印刷)'!A23:A46, MATCH("D3-1", '男子申込(印刷)'!F23:F46, 0)) -> #N/A | G16: ='男子申込(印刷)'!$A$7 -> 0
A17: Ｓ３ | E17: Ｄ３ | F17: =INDEX('男子申込(印刷)'!A23:A46, MATCH("D3-2", '男子申込(印刷)'!F23:F46, 0)) -> #N/A
A19: 種 目 | B19: 氏 名 | C19: 学校名
A20: 男子 | B20: =INDEX('男子申込(印刷)'!A23:A46, MATCH("S4", '男子申込(印刷)'!G23:G46, 0)) -> #N/A | C20: ='男子申込(印刷)'!$A$7 -> 0
A21: S4
A24: 種 目 | B24: 氏 名 | C24: 学校名 | E24: 種 目 | F24: 氏 名 | G24: 学校名
A25: 女子 | B25: =INDEX('女子申込(印刷) '!A23:A46,MATCH("S1",'女子申込(印刷) '!G23:G46,0)) -> #N/A | C25: ='女子申込(印刷) '!$A$7 -> 0 | E25: 女子 | F25: =INDEX('女子申込(印刷) '!A23:A46,MATCH("D1-1",'女子申込(印刷) '!F23:F46,0)) -> #N/A | G25: ='女子申込(印刷) '!$A$7 -> 0
A26: Ｓ１ | E26: Ｄ１ | F26: =INDEX('女子申込(印刷) '!A23:A46,MATCH("D1-2",'女子申込(印刷) '!F23:F46,0)) -> #N/A
A28: 種 目 | B28: 氏 名 | C28: 学校名 | E28: 種 目 | F28: 氏 名 | G28: 学校名
A29: 女子 | B29: =INDEX('女子申込(印刷) '!A23:A46,MATCH("S2",'女子申込(印刷) '!G23:G46,0)) -> #N/A | C29: ='女子申込(印刷) '!$A$7 -> 0 | E29: 女子 | F29: =INDEX('女子申込(印刷) '!A23:A46,MATCH("D2-1",'女子申込(印刷) '!F23:F46,0)) -> #N/A | G29: ='女子申込(印刷) '!$A$7 -> 0
A30: Ｓ２ | E30: Ｄ２ | F30: =INDEX('女子申込(印刷) '!A23:A46,MATCH("D2-2",'女子申込(印刷) '!F23:F46,0)) -> #N/A
A32: 種 目 | B32: 氏 名 | C32: 学校名 | E32: 種 目 | F32: 氏 名 | G32: 学校名
A33: 女子 | B33: =INDEX('女子申込(印刷) '!A23:A46,MATCH("S3",'女子申込(印刷) '!G23:G46,0)) -> #N/A | C33: ='女子申込(印刷) '!$A$7 -> 0 | E33: 女子 | F33: =INDEX('女子申込(印刷) '!A23:A46,MATCH("D3-1",'女子申込(印刷) '!F23:F46,0)) -> #N/A | G33: ='女子申込(印刷) '!$A$7 -> 0
A34: Ｓ３ | E34: Ｄ３ | F34: =INDEX('女子申込(印刷) '!A23:A46,MATCH("D3-2",'女子申込(印刷) '!F23:F46,0)) -> #N/A
A36: 種 目 | B36: 氏 名 | C36: 学校名
A37: 女子 | B37: =INDEX('女子申込(印刷) '!A23:A46,MATCH("S4",'女子申込(印刷) '!G23:G46,0)) -> #N/A | C37: ='女子申込(印刷) '!$A$7 -> 0
A38: Ｓ４

Sheet プログラム名簿(入力・印刷必要無し)
B2: ≪ 男 子 ≫ | H2: ≪ 女 子 ≫
B4: ='男子申込(印刷)'!$A$7 -> 0 | H4: ='女子申込(印刷) '!$A$7 -> 0
B5: 監 督 | C5: ='男子申込(印刷)'!A9 -> 0 | H5: 監 督 | I5: ='女子申込(印刷) '!A9 -> 0
B6: コーチ | C6: ='男子申込(印刷)'!D9 -> 0 | H6: コーチ | I6: ='女子申込(印刷) '!D9 -> 0
B7: マネージャー | C7: ='男子申込(印刷)'!F9 -> 0 | H7: マネージャ－ | I7: ='女子申込(印刷) '!F9 -> 0
B8: 選手氏名 | C8: 学年 | D8: 団体 | E8: 個人D | F8: 個人S | H8: 選手氏名 | I8: 学年 | J8: 団体 | K8: 個人D | L8: 個人S
B9: ='男子申込(印刷)'!A23 -> 0 | C9: ='男子申込(印刷)'!C23 -> 0 | D9: ='男子申込(印刷)'!E23 -> 0 | E9: ='男子申込(印刷)'!F23 -> 0 | F9: ='男子申込(印刷)'!G23 -> 0 | H9: ='女子申込(印刷) '!A23 -> 0 | I9: ='女子申込(印刷) '!C23 -> 0 | J9: ='女子申込(印刷) '!E23 -> 0 | K9: ='女子申込(印刷) '!F23 -> 0 | L9: ='女子申込(印刷) '!G23 -> 0
B10: ='男子申込(印刷)'!A25 -> 0 | C10: ='男子申込(印刷)'!C25 -> 0 | D10: ='男子申込(印刷)'!E25 -> 0 | E10: ='男子申込(印刷)'!F25 -> 0 | F10: ='男子申込(印刷)'!G25 -> 0 | H10: ='女子申込(印刷) '!A25 -> 0 | I10: ='女子申込(印刷) '!C25 -> 0 | J10: ='女子申込(印刷) '!E25 -> 0 | K10: ='女子申込(印刷) '!F25 -> 0 | L10: ='女子申込(印刷) '!G25 -> 0
B11: ='男子申込(印刷)'!A27 -> 0 | C11: ='男子申込(印刷)'!C27 -> 0 | D11: ='男子申込(印刷)'!E27 -> 0 | E11: ='男子申込(印刷)'!F27 -> 0 | F11: ='男子申込(印刷)'!G27 -> 0 | H11: ='女子申込(印刷) '!A27 -> 0 | I11: ='女子申込(印刷) '!C27 -> 0 | J11: ='女子申込(印刷) '!E27 -> 0 | K11: ='女子申込(印刷) '!F27 -> 0 | L11: ='女子申込(印刷) '!G27 -> 0
B12: ='男子申込(印刷)'!A29 -> 0 | C12: ='男子申込(印刷)'!C29 -> 0 | D12: ='男子申込(印刷)'!E29 -> 0 | E12: ='男子申込(印刷)'!F29 -> 0 | F12: ='男子申込(印刷)'!G29 -> 0 | H12: ='女子申込(印刷) '!A29 -> 0 | I12: ='女子申込(印刷) '!C29 -> 0 | J12: ='女子申込(印刷) '!E29 -> 0 | K12: ='女子申込(印刷) '!F29 -> 0 | L12: ='女子申込(印刷) '!G29 -> 0
B13: ='男子申込(印刷)'!A31 -> 0 | C13: ='男子申込(印刷)'!C31 -> 0 | D13: ='男子申込(印刷)'!E31 -> 0 | E13: ='男子申込(印刷)'!F31 -> 0 | F13: ='男子申込(印刷)'!G31 -> 0 | H13: ='女子申込(印刷) '!A31 -> 0 | I13: ='女子申込(印刷) '!C31 -> 0 | J13: ='女子申込(印刷) '!E31 -> 0 | K13: ='女子申込(印刷) '!F31 -> 0 | L13: ='女子申込(印刷) '!G31 -> 0
B14: ='男子申込(印刷)'!A33 -> 0 | C14: ='男子申込(印刷)'!C33 -> 0 | D14: ='男子申込(印刷)'!E33 -> 0 | E14: ='男子申込(印刷)'!F33 -> 0 | F14: ='男子申込(印刷)'!G33 -> 0 | H14: ='女子申込(印刷) '!A33 -> 0 | I14: ='女子申込(印刷) '!C33 -> 0 | J14: ='女子申込(印刷) '!E33 -> 0 | K14: ='女子申込(印刷) '!F33 -> 0 | L14: ='女子申込(印刷) '!G33 -> 0
B15: ='男子申込(印刷)'!A35 -> 0 | C15: ='男子申込(印刷)'!C35 -> 0 | D15: ='男子申込(印刷)'!E35 -> 0 | E15: ='男子申込(印刷)'!F35 -> 0 | F15: ='男子申込(印刷)'!G35 -> 0 | H15: ='女子申込(印刷) '!A35 -> 0 | I15: ='女子申込(印刷) '!C35 -> 0 | J15: ='女子申込(印刷) '!E35 -> 0 | K15: ='女子申込(印刷) '!F35 -> 0 | L15: ='女子申込(印刷) '!G35 -> 0
B16: ='男子申込(印刷)'!A37 -> 0 | C16: ='男子申込(印刷)'!C37 -> 0 | D16: ='男子申込(印刷)'!E37 -> 0 | E16: ='男子申込(印刷)'!F37 -> 0 | F16: ='男子申込(印刷)'!G37 -> 0 | H16: ='女子申込(印刷) '!A37 -> 0 | I16: ='女子申込(印刷) '!C37 -> 0 | J16: ='女子申込(印刷) '!E37 -> 0 | K16: ='女子申込(印刷) '!F37 -> 0 | L16: ='女子申込(印刷) '!G37 -> 0
B17: ='男子申込(印刷)'!A39 -> 0 | C17: ='男子申込(印刷)'!C39 -> 0 | D17: ='男子申込(印刷)'!E39 -> 0 | E17: ='男子申込(印刷)'!F39 -> 0 | F17: ='男子申込(印刷)'!G39 -> 0 | H17: ='女子申込(印刷) '!A39 -> 0 | I17: ='女子申込(印刷) '!C39 -> 0 | J17: ='女子申込(印刷) '!E39 -> 0 | K17: ='女子申込(印刷) '!F39 -> 0 | L17: ='女子申込(印刷) '!G39 -> 0
B18: ='男子申込(印刷)'!A41 -> 0 | C18: ='男子申込(印刷)'!C41 -> 0 | D18: ='男子申込(印刷)'!E41 -> 0 | E18: ='男子申込(印刷)'!F41 -> 0 | F18: ='男子申込(印刷)'!G41 -> 0 | H18: ='女子申込(印刷) '!A41 -> 0 | I18: ='女子申込(印刷) '!C41 -> 0 | J18: ='女子申込(印刷) '!E41 -> 0 | K18: ='女子申込(印刷) '!F41 -> 0 | L18: ='女子申込(印刷) '!G41 -> 0
B19: ='男子申込(印刷)'!A43 -> 0 | C19: ='男子申込(印刷)'!C41 -> 0 | D19: ='男子申込(印刷)'!E43 -> 0 | E19: ='男子申込(印刷)'!F43 -> 0 | F19: ='男子申込(印刷)'!G41 -> 0 | H19: ='女子申込(印刷) '!A43 -> 0 | I19: ='女子申込(印刷) '!C43 -> 0 | J19: ='女子申込(印刷) '!E43 -> 0 | K19: ='女子申込(印刷) '!F43 -> 0 | L19: ='女子申込(印刷) '!G43 -> 0
B20: ='男子申込(印刷)'!A45 -> 0 | C20: ='男子申込(印刷)'!C43 -> 0 | D20: ='男子申込(印刷)'!E45 -> 0 | E20: ='男子申込(印刷)'!F43 -> 0 | F20: ='男子申込(印刷)'!G43 -> 0 | H20: ='女子申込(印刷) '!A45 -> 0 | I20: ='女子申込(印刷) '!C45 -> 0 | J20: ='女子申込(印刷) '!E45 -> 0 | K20: ='女子申込(印刷) '!F45 -> 0 | L20: ='女子申込(印刷) '!G45 -> 0

Sheet アサミ用データ(入力・印刷必要無し)
B2: 団体戦用 | O2: 個人戦用
B3: 男子 | D3: 氏名 | E3: ふりがな | F3: 団体
B4: BT | C4: 団体 | D4: ='男子申込(印刷)'!A7 -> 0 | F4: ◎ | O4: BD | P4: =INDEX('男子申込(印刷)'!$A$23:$A$46,MATCH("D1-1",'男子申込(印刷)'!$F$23:$F$46,0)) -> #N/A | Q4: =INDEX('男子申込(印刷)'!$B$23:$B$46,MATCH("D1-1",'男子申込(印刷)'!$F$23:$F$46,0)) -> #N/A | R4: ='男子申込(印刷)'!$A$7 -> 0
B5: BT | C5: 監督 | D5: ='男子申込(印刷)'!A9 -> 0 | F5: ◎ | O5: BD | P5: =INDEX('男子申込(印刷)'!$A$23:$A$46,MATCH("D1-2",'男子申込(印刷)'!$F$23:$F$46,0)) -> #N/A | Q5: =INDEX('男子申込(印刷)'!$B$23:$B$46,MATCH("D1-2",'男子申込(印刷)'!$F$23:$F$46,0)) -> #N/A | R5: ='男子申込(印刷)'!$A$7 -> 0
B6: BT | C6: コーチ | D6: ='男子申込(印刷)'!D9 -> 0 | F6: ◎ | O6: BD | P6: =INDEX('男子申込(印刷)'!$A$23:$A$46,MATCH("D2-1",'男子申込(印刷)'!$F$23:$F$46,0)) -> #N/A | Q6: =INDEX('男子申込(印刷)'!$B$23:$B$46,MATCH("D2-1",'男子申込(印刷)'!$F$23:$F$46,0)) -> #N/A | R6: ='男子申込(印刷)'!$A$7 -> 0
B7: BT | C7: マネージャー | D7: ='男子申込(印刷)'!F9 -> 0 | F7: ◎ | O7: BD | P7: =INDEX('男子申込(印刷)'!$A$23:$A$46,MATCH("D2-2",'男子申込(印刷)'!$F$23:$F$46,0)) -> #N/A | Q7: =INDEX('男子申込(印刷)'!$B$23:$B$46,MATCH("D2-2",'男子申込(印刷)'!$F$23:$F$46,0)) -> #N/A | R7: ='男子申込(印刷)'!$A$7 -> 0
B8: BT | C8: =IF(テーブル3[[#This Row],[団体]]="◎","選手",IF(テーブル3[[#This Row],[団体]]="○","選手",IF(テーブル3[[#This Row],[団体]]="M","マネージャー",""))) | D8: ='男子申込(印刷)'!A23 -> 0 | E8: ='男子申込(印刷)'!B23 -> 0 | F8: =IF(0,"",'男子申込(印刷)'!E23) -> 0 | G8: ='男子申込(印刷)'!F23 -> 0 | H8: ='男子申込(印刷)'!G23 -> 0 | O8: BD | P8: =INDEX('男子申込(印刷)'!$A$23:$A$46,MATCH("D3-1",'男子申込(印刷)'!$F$23:$F$46,0)) -> #N/A | Q8: =INDEX('男子申込(印刷)'!$B$23:$B$46,MATCH("D3-1",'男子申込(印刷)'!$F$23:$F$46,0)) -> #N/A | R8: ='男子申込(印刷)'!$A$7 -> 0
B9: BT | C9: =IF(テーブル3[[#This Row],[団体]]="◎","選手",IF(テーブル3[[#This Row],[団体]]="○","選手",IF(テーブル3[[#This Row],[団体]]="M","マネージャー",""))) | D9: ='男子申込(印刷)'!A25 -> 0 | E9: ='男子申込(印刷)'!B25 -> 0 | F9: =IF(0,"",'男子申込(印刷)'!E25) -> 0 | G9: ='男子申込(印刷)'!F25 -> 0 | H9: ='男子申込(印刷)'!G25 -> 0 | O9: BD | P9: =INDEX('男子申込(印刷)'!$A$23:$A$46,MATCH("D3-2",'男子申込(印刷)'!$F$23:$F$46,0)) -> #N/A | Q9: =INDEX('男子申込(印刷)'!$B$23:$B$46,MATCH("D3-2",'男子申込(印刷)'!$F$23:$F$46,0)) -> #N/A | R9: ='男子申込(印刷)'!$A$7 -> 0
B10: BT | C10: =IF(テーブル3[[#This Row],[団体]]="◎","選手",IF(テーブル3[[#This Row],[団体]]="○","選手",IF(テーブル3[[#This Row],[団体]]="M","マネージャー",""))) | D10: ='男子申込(印刷)'!A27 -> 0 | E10: ='男子申込(印刷)'!B27 -> 0 | F10: =IF(0,"",'男子申込(印刷)'!E27) -> 0 | G10: ='男子申込(印刷)'!F27 -> 0 | H10: ='男子申込(印刷)'!G27 -> 0 | O10: BS | P10: =INDEX('男子申込(印刷)'!$A$23:$A$46,MATCH("S1",'男子申込(印刷)'!$G$23:$G$46,0)) -> #N/A | Q10: =INDEX('男子申込(印刷)'!$B$23:$B$46,MATCH("S1",'男子申込(印刷)'!$G$23:$G$46,0)) -> #N/A | R10: ='男子申込(印刷)'!$A$7 -> 0
B11: BT | C11: =IF(テーブル3[[#This Row],[団体]]="◎","選手",IF(テーブル3[[#This Row],[団体]]="○","選手",IF(テーブル3[[#This Row],[団体]]="M","マネージャー",""))) | D11: ='男子申込(印刷)'!A29 -> 0 | E11: ='男子申込(印刷)'!B29 -> 0 | F11: =IF(0,"",'男子申込(印刷)'!E29) -> 0 | G11: ='男子申込(印刷)'!F29 -> 0 | H11: ='男子申込(印刷)'!G29 -> 0 | O11: BS | P11: =INDEX('男子申込(印刷)'!$A$23:$A$46,MATCH("S2",'男子申込(印刷)'!$G$23:$G$46,0)) -> #N/A | Q11: =INDEX('男子申込(印刷)'!$B$23:$B$46,MATCH("S2",'男子申込(印刷)'!$G$23:$G$46,0)) -> #N/A | R11: ='男子申込(印刷)'!$A$7 -> 0
B12: BT | C12: =IF(テーブル3[[#This Row],[団体]]="◎","選手",IF(テーブル3[[#This Row],[団体]]="○","選手",IF(テーブル3[[#This Row],[団体]]="M","マネージャー",""))) | D12: ='男子申込(印刷)'!A31 -> 0 | E12: ='男子申込(印刷)'!B31 -> 0 | F12: =IF(0," ",'男子申込(印刷)'!E31) -> 0 | G12: ='男子申込(印刷)'!F31 -> 0 | H12: ='男子申込(印刷)'!G31 -> 0 | O12: BS | P12: =INDEX('男子申込(印刷)'!$A$23:$A$46,MATCH("S3",'男子申込(印刷)'!$G$23:$G$46,0)) -> #N/A | Q12: =INDEX('男子申込(印刷)'!$B$23:$B$46,MATCH("S3",'男子申込(印刷)'!$G$23:$G$46,0)) -> #N/A | R12: ='男子申込(印刷)'!$A$7 -> 0
B13: BT | C13: =IF(テーブル3[[#This Row],[団体]]="◎","選手",IF(テーブル3[[#This Row],[団体]]="○","選手",IF(テーブル3[[#This Row],[団体]]="M","マネージャー",""))) | D13: ='男子申込(印刷)'!A33 -> 0 | E13: ='男子申込(印刷)'!B33 -> 0 | F13: ='男子申込(印刷)'!E33 -> 0 | G13: ='男子申込(印刷)'!F33 -> 0 | H13: ='男子申込(印刷)'!G33 -> 0 | O13: BS | P13: =INDEX('男子申込(印刷)'!$A$23:$A$46,MATCH("S4",'男子申込(印刷)'!$G$23:$G$46,0)) -> #N/A | Q13: =INDEX('男子申込(印刷)'!$B$23:$B$46,MATCH("S4",'男子申込(印刷)'!$G$23:$G$46,0)) -> #N/A | R13: ='男子申込(印刷)'!$A$7 -> 0
B14: BT | C14: =IF(テーブル3[[#This Row],[団体]]="◎","選手",IF(テーブル3[[#This Row],[団体]]="○","選手",IF(テーブル3[[#This Row],[団体]]="M","マネージャー",""))) | D14: ='男子申込(印刷)'!A35 -> 0 | E14: ='男子申込(印刷)'!B35 -> 0 | F14: ='男子申込(印刷)'!E35 -> 0 | G14: ='男子申込(印刷)'!F35 -> 0 | H14: ='男子申込(印刷)'!G35 -> 0 | O14: GD | P14: =INDEX('女子申込(印刷) '!$A$23:$A$46,MATCH("D1-1",'女子申込(印刷) '!$F$23:$F$46,0)) -> #N/A | Q14: =INDEX('女子申込(印刷) '!$B$23:$B$46,MATCH("D1-1",'女子申込(印刷) '!$F$23:$F$46,0)) -> #N/A | R14: ='男子申込(印刷)'!$A$7 -> 0
B15: BT | C15: =IF(テーブル3[[#This Row],[団体]]="◎","選手",IF(テーブル3[[#This Row],[団体]]="○","選手",IF(テーブル3[[#This Row],[団体]]="M","マネージャー",""))) | D15: ='男子申込(印刷)'!A37 -> 0 | E15: ='男子申込(印刷)'!B37 -> 0 | F15: ='男子申込(印刷)'!E37 -> 0 | G15: ='男子申込(印刷)'!F37 -> 0 | H15: ='男子申込(印刷)'!G37 -> 0 | O15: GD | P15: =INDEX('女子申込(印刷) '!$A$23:$A$46,MATCH("D1-2",'女子申込(印刷) '!$F$23:$F$46,0)) -> #N/A | Q15: =INDEX('女子申込(印刷) '!$B$23:$B$46,MATCH("D1-2",'女子申込(印刷) '!$F$23:$F$46,0)) -> #N/A | R15: ='男子申込(印刷)'!$A$7 -> 0
B16: BT | C16: =IF(テーブル3[[#This Row],[団体]]="◎","選手",IF(テーブル3[[#This Row],[団体]]="○","選手",IF(テーブル3[[#This Row],[団体]]="M","マネージャー",""))) | D16: ='男子申込(印刷)'!A39 -> 0 | E16: ='男子申込(印刷)'!B39 -> 0 | F16: ='男子申込(印刷)'!E39 -> 0 | G16: ='男子申込(印刷)'!F39 -> 0 | H16: ='男子申込(印刷)'!G39 -> 0 | O16: GD | P16: =INDEX('女子申込(印刷) '!$A$23:$A$46,MATCH("D2-1",'女子申込(印刷) '!$F$23:$F$46,0)) -> #N/A | Q16: =INDEX('女子申込(印刷) '!$B$23:$B$46,MATCH("D2-1",'女子申込(印刷) '!$F$23:$F$46,0)) -> #N/A | R16: ='男子申込(印刷)'!$A$7 -> 0
B17: BT | C17: =IF(テーブル3[[#This Row],[団体]]="◎","選手",IF(テーブル3[[#This Row],[団体]]="○","選手",IF(テーブル3[[#This Row],[団体]]="M","マネージャー",""))) | D17: ='男子申込(印刷)'!A41 -> 0 | E17: ='男子申込(印刷)'!B41 -> 0 | F17: ='男子申込(印刷)'!E41 -> 0 | G17: ='男子申込(印刷)'!F41 -> 0 | H17: ='男子申込(印刷)'!G41 -> 0 | O17: GD | P17: =INDEX('女子申込(印刷) '!$A$23:$A$46,MATCH("D2-2",'女子申込(印刷) '!$F$23:$F$46,0)) -> #N/A | Q17: =INDEX('女子申込(印刷) '!$B$23:$B$46,MATCH("D2-2",'女子申込(印刷) '!$F$23:$F$46,0)) -> #N/A | R17: ='男子申込(印刷)'!$A$7 -> 0
B18: BT | C18: =IF(テーブル3[[#This Row],[団体]]="◎","選手",IF(テーブル3[[#This Row],[団体]]="○","選手",IF(テーブル3[[#This Row],[団体]]="M","マネージャー",""))) | D18: ='男子申込(印刷)'!A43 -> 0 | E18: ='男子申込(印刷)'!B43 -> 0 | F18: ='男子申込(印刷)'!E43 -> 0 | G18: ='男子申込(印刷)'!F43 -> 0 | H18: ='男子申込(印刷)'!G43 -> 0 | O18: GD | P18: =INDEX('女子申込(印刷) '!$A$23:$A$46,MATCH("D3-1",'女子申込(印刷) '!$F$23:$F$46,0)) -> #N/A | Q18: =INDEX('女子申込(印刷) '!$B$23:$B$46,MATCH("D3-1",'女子申込(印刷) '!$F$23:$F$46,0)) -> #N/A | R18: ='男子申込(印刷)'!$A$7 -> 0
B19: BT | C19: =IF(テーブル3[[#This Row],[団体]]="◎","選手",IF(テーブル3[[#This Row],[団体]]="○","選手",IF(テーブル3[[#This Row],[団体]]="M","マネージャー",""))) | D19: ='男子申込(印刷)'!A45 -> 0 | E19: ='男子申込(印刷)'!B45 -> 0 | F19: ='男子申込(印刷)'!E45 -> 0 | G19: ='男子申込(印刷)'!F45 -> 0 | H19: ='男子申込(印刷)'!G45 -> 0 | O19: GD | P19: =INDEX('女子申込(印刷) '!$A$23:$A$46,MATCH("D3-2",'女子申込(印刷) '!$F$23:$F$46,0)) -> #N/A | Q19: =INDEX('女子申込(印刷) '!$B$23:$B$46,MATCH("D3-2",'女子申込(印刷) '!$F$23:$F$46,0)) -> #N/A | R19: ='男子申込(印刷)'!$A$7 -> 0
O20: GS | P20: =INDEX('女子申込(印刷) '!$A$23:$A$46,MATCH("S1",'女子申込(印刷) '!$G$23:$G$46,0)) -> #N/A | Q20: =INDEX('女子申込(印刷) '!$B$23:$B$46,MATCH("S1",'女子申込(印刷) '!$G$23:$G$46,0)) -> #N/A | R20: ='男子申込(印刷)'!$A$7 -> 0
B21: 女子 | D21: 氏名 | E21: フリガナ | F21: 団体 | O21: GS | P21: =INDEX('女子申込(印刷) '!$A$23:$A$46,MATCH("S2",'女子申込(印刷) '!$G$23:$G$46,0)) -> #N/A | Q21: =INDEX('女子申込(印刷) '!$B$23:$B$46,MATCH("S2",'女子申込(印刷) '!$G$23:$G$46,0)) -> #N/A | R21: ='男子申込(印刷)'!$A$7 -> 0
B22: GT | C22: 団体 | D22: ='女子申込(印刷) '!A7 -> 0 | F22: ◎ | O22: GS | P22: =INDEX('女子申込(印刷) '!$A$23:$A$46,MATCH("S3",'女子申込(印刷) '!$G$23:$G$46,0)) -> #N/A | Q22: =INDEX('女子申込(印刷) '!$B$23:$B$46,MATCH("S3",'女子申込(印刷) '!$G$23:$G$46,0)) -> #N/A | R22: ='男子申込(印刷)'!$A$7 -> 0
B23: GT | C23: 監督 | D23: ='女子申込(印刷) '!A9 -> 0 | F23: ◎ | O23: GS | P23: =INDEX('女子申込(印刷) '!$A$23:$A$46,MATCH("S4",'女子申込(印刷) '!$G$23:$G$46,0)) -> #N/A | Q23: =INDEX('女子申込(印刷) '!$B$23:$B$46,MATCH("S4",'女子申込(印刷) '!$G$23:$G$46,0)) -> #N/A | R23: ='男子申込(印刷)'!$A$7 -> 0
B24: GT | C24: コーチ | D24: ='女子申込(印刷) '!D9:E9 -> 0 | F24: ◎
B25: GT | C25: マネージャー | D25: ='女子申込(印刷) '!F9 -> 0 | F25: ◎
B26: GT | C26: =IF(テーブル4[[#This Row],[団体]]="◎","選手",IF(テーブル4[[#This Row],[団体]]="○","選手",IF(テーブル4[[#This Row],[団体]]="M","マネージャー",""))) | D26: ='女子申込(印刷) '!A23 -> 0 | E26: ='女子申込(印刷) '!B23 -> 0 | F26: =IF(0,"",'女子申込(印刷) '!E23) -> 0 | G26: ='女子申込(印刷) '!F23 -> 0 | H26: ='女子申込(印刷) '!G23 -> 0
B27: GT | C27: =IF(テーブル4[[#This Row],[団体]]="◎","選手",IF(テーブル4[[#This Row],[団体]]="○","選手",IF(テーブル4[[#This Row],[団体]]="M","マネージャー",""))) | D27: ='女子申込(印刷) '!A25 -> 0 | E27: ='女子申込(印刷) '!B25 -> 0 | F27: =IF(0,"",'女子申込(印刷) '!E25) -> 0 | G27: ='女子申込(印刷) '!F25 -> 0 | H27: ='女子申込(印刷) '!G25 -> 0
B28: GT | C28: =IF(テーブル4[[#This Row],[団体]]="◎","選手",IF(テーブル4[[#This Row],[団体]]="○","選手",IF(テーブル4[[#This Row],[団体]]="M","マネージャー",""))) | D28: ='女子申込(印刷) '!A27 -> 0 | E28: ='女子申込(印刷) '!B27 -> 0 | F28: =IF(0,"",'女子申込(印刷) '!E27) -> 0 | G28: ='女子申込(印刷) '!F27 -> 0 | H28: ='女子申込(印刷) '!G27 -> 0
B29: GT | C29: =IF(テーブル4[[#This Row],[団体]]="◎","選手",IF(テーブル4[[#This Row],[団体]]="○","選手",IF(テーブル4[[#This Row],[団体]]="M","マネージャー",""))) | D29: ='女子申込(印刷) '!A29 -> 0 | E29: ='女子申込(印刷) '!B29 -> 0 | F29: =IF(0,"",'女子申込(印刷) '!E29) -> 0 | G29: ='女子申込(印刷) '!F29 -> 0 | H29: ='女子申込(印刷) '!G29 -> 0
B30: GT | C30: =IF(テーブル4[[#This Row],[団体]]="◎","選手",IF(テーブル4[[#This Row],[団体]]="○","選手",IF(テーブル4[[#This Row],[団体]]="M","マネージャー",""))) | D30: ='女子申込(印刷) '!A31 -> 0 | E30: ='女子申込(印刷) '!B31 -> 0 | F30: =IF(0,"",'女子申込(印刷) '!E31) -> 0 | G30: ='女子申込(印刷) '!F31 -> 0 | H30: ='女子申込(印刷) '!G31 -> 0
B31: GT | C31: =IF(テーブル4[[#This Row],[団体]]="◎","選手",IF(テーブル4[[#This Row],[団体]]="○","選手",IF(テーブル4[[#This Row],[団体]]="M","マネージャー",""))) | D31: ='女子申込(印刷) '!A33 -> 0 | E31: ='女子申込(印刷) '!B33 -> 0 | F31: =IF(0,"",'女子申込(印刷) '!E33) -> 0 | G31: ='女子申込(印刷) '!F33 -> 0 | H31: ='女子申込(印刷) '!G33 -> 0
B32: GT | C32: =IF(テーブル4[[#This Row],[団体]]="◎","選手",IF(テーブル4[[#This Row],[団体]]="○","選手",IF(テーブル4[[#This Row],[団体]]="M","マネージャー",""))) | D32: ='女子申込(印刷) '!A35 -> 0 | E32: ='女子申込(印刷) '!B35 -> 0 | F32: =IF(0,"",'女子申込(印刷) '!E35) -> 0 | G32: ='女子申込(印刷) '!F35 -> 0 | H32: ='女子申込(印刷) '!G35 -> 0
B33: GT | C33: =IF(テーブル4[[#This Row],[団体]]="◎","選手",IF(テーブル4[[#This Row],[団体]]="○","選手",IF(テーブル4[[#This Row],[団体]]="M","マネージャー",""))) | D33: ='女子申込(印刷) '!A37 -> 0 | E33: ='女子申込(印刷) '!B37 -> 0 | F33: =IF(0,"",'女子申込(印刷) '!E37) -> 0 | G33: ='女子申込(印刷) '!F37 -> 0 | H33: ='女子申込(印刷) '!G37 -> 0
B34: GT | C34: =IF(テーブル4[[#This Row],[団体]]="◎","選手",IF(テーブル4[[#This Row],[団体]]="○","選手",IF(テーブル4[[#This Row],[団体]]="M","マネージャー",""))) | D34: ='女子申込(印刷) '!A39 -> 0 | E34: ='女子申込(印刷) '!B39 -> 0 | F34: =IF(0,"",'女子申込(印刷) '!E39) -> 0 | G34: ='女子申込(印刷) '!F39 -> 0 | H34: ='女子申込(印刷) '!G39 -> 0
B35: GT | C35: =IF(テーブル4[[#This Row],[団体]]="◎","選手",IF(テーブル4[[#This Row],[団体]]="○","選手",IF(テーブル4[[#This Row],[団体]]="M","マネージャー",""))) | D35: ='女子申込(印刷) '!A41 -> 0 | E35: ='女子申込(印刷) '!B41 -> 0 | F35: =IF(0,"",'女子申込(印刷) '!E41) -> 0 | G35: ='女子申込(印刷) '!F41 -> 0 | H35: ='女子申込(印刷) '!G41 -> 0
B36: GT | C36: =IF(テーブル4[[#This Row],[団体]]="◎","選手",IF(テーブル4[[#This Row],[団体]]="○","選手",IF(テーブル4[[#This Row],[団体]]="M","マネージャー",""))) | D36: ='女子申込(印刷) '!A43 -> 0 | E36: ='女子申込(印刷) '!B43 -> 0 | F36: =IF(0,"",'女子申込(印刷) '!E43) -> 0 | G36: ='女子申込(印刷) '!F43 -> 0 | H36: ='女子申込(印刷) '!G43 -> 0
B37: GT | C37: =IF(テーブル4[[#This Row],[団体]]="◎","選手",IF(テーブル4[[#This Row],[団体]]="○","選手",IF(テーブル4[[#This Row],[団体]]="M","マネージャー",""))) | D37: ='女子申込(印刷) '!A45 -> 0 | E37: ='女子申込(印刷) '!B45 -> 0 | F37: =IF(0,"",'女子申込(印刷) '!E45) -> 0 | G37: ='女子申込(印刷) '!F45 -> 0 | H37: ='女子申込(印刷) '!G45 -> 0
